BEGIN:VCALENDAR
VERSION:2.0
PRODID:-//ChurchDev//Events//EN
CALSCALE:GREGORIAN
METHOD:PUBLISH
BEGIN:VEVENT
UID:4856-20250921@www.trinitylickdale.org
SUMMARY:Trinity Kidz Group &#038\; Youth Group
DTSTART:20250921T220000Z
DTEND:20250921T233000Z
DESCRIPTION:Group kickoff ~ Sunday\, September 21\\nTrinity Kidz Group is for kids Kindergarten through 5th Grade.\\nTrinity Youth Group is for youth 6th through 12th Grade.\\nJoin us the 1st and 3rd Sundays of the month from 6 to 7:30 pm. Join us for lesson time\, games\, fellowship and snacks. Group will be divided into two age groups.\\nQuestions\, contact the church office at 717-865-4361.\\n&#8211\;\\n\\nhttps://www.trinitylickdale.org/events/trinity-kidz-group/
URL:https://www.trinitylickdale.org/events/trinity-kidz-group/
DTSTAMP:20260419T222920Z
END:VEVENT
END:VCALENDAR
