BEGIN:VCALENDAR
VERSION:2.0
PRODID:-//ChurchDev//Events//EN
CALSCALE:GREGORIAN
METHOD:PUBLISH
BEGIN:VEVENT
UID:5649-20260422@www.trinitylickdale.org
SUMMARY:What Do They Believe Bible Study
DTSTART:20260422T230000Z
DTEND:20260423T000000Z
DESCRIPTION:Have you ever wondered what that church across the street\, or that religion across the world\, thinks about God? Different religions and different Christian denominations offer very different perspectives. We&#8217\;ll explore different faith traditions in light of Scripture with the goal of better understanding one another and our own viewpoints.\\n\\nhttps://www.trinitylickdale.org/events/what-do-they-believe-bible-study/
URL:https://www.trinitylickdale.org/events/what-do-they-believe-bible-study/
DTSTAMP:20260419T222919Z
END:VEVENT
END:VCALENDAR
